BEGIN:VCALENDAR
VERSION:2.0
PRODID:-//Council for Drug Free Youth - ECPv6.15.20//NONSGML v1.0//EN
CALSCALE:GREGORIAN
METHOD:PUBLISH
X-ORIGINAL-URL:https://jccdfy.org
X-WR-CALDESC:Events for Council for Drug Free Youth
REFRESH-INTERVAL;VALUE=DURATION:PT1H
X-Robots-Tag:noindex
X-PUBLISHED-TTL:PT1H
BEGIN:VTIMEZONE
TZID:America/Chicago
BEGIN:DAYLIGHT
TZOFFSETFROM:-0600
TZOFFSETTO:-0500
TZNAME:CDT
DTSTART:20230312T080000
END:DAYLIGHT
BEGIN:STANDARD
TZOFFSETFROM:-0500
TZOFFSETTO:-0600
TZNAME:CST
DTSTART:20231105T070000
END:STANDARD
BEGIN:DAYLIGHT
TZOFFSETFROM:-0600
TZOFFSETTO:-0500
TZNAME:CDT
DTSTART:20240310T080000
END:DAYLIGHT
BEGIN:STANDARD
TZOFFSETFROM:-0500
TZOFFSETTO:-0600
TZNAME:CST
DTSTART:20241103T070000
END:STANDARD
BEGIN:DAYLIGHT
TZOFFSETFROM:-0600
TZOFFSETTO:-0500
TZNAME:CDT
DTSTART:20250309T080000
END:DAYLIGHT
BEGIN:STANDARD
TZOFFSETFROM:-0500
TZOFFSETTO:-0600
TZNAME:CST
DTSTART:20251102T070000
END:STANDARD
END:VTIMEZONE
BEGIN:VEVENT
DTSTART;TZID=America/Chicago:20240601T090000
DTEND;TZID=America/Chicago:20240601T130000
DTSTAMP:20260423T034734
CREATED:20240214T213621Z
LAST-MODIFIED:20240531T212017Z
UID:17229668-1717232400-1717246800@jccdfy.org
SUMMARY:CDFY @ Kidsfest
DESCRIPTION:
URL:https://jccdfy.org/event/cdfy-kidsfest/
LOCATION:MO
CATEGORIES:CDFY Public Events
END:VEVENT
BEGIN:VEVENT
DTSTART;TZID=America/Chicago:20240604T140000
DTEND;TZID=America/Chicago:20240604T210000
DTSTAMP:20260423T034734
CREATED:20240506T223517Z
LAST-MODIFIED:20240604T212141Z
UID:17230327-1717509600-1717534800@jccdfy.org
SUMMARY:Dine and Donate Night @ Texas Roadhouse
DESCRIPTION:Share\, Share\, Share and don’t forget to mention to donate part of your meal to CDFY.
URL:https://jccdfy.org/event/dine-and-donate-night-texas-roadhouse/
LOCATION:Texas Roadhouse\, 3104 S Ten Mile Dr\, Jefferson City\, MO 65109\, USA
CATEGORIES:CDFY Public Events
END:VEVENT
BEGIN:VEVENT
DTSTART;TZID=America/Chicago:20240611T090000
DTEND;TZID=America/Chicago:20240611T100000
DTSTAMP:20260423T034734
CREATED:20240603T212101Z
LAST-MODIFIED:20240610T215437Z
UID:17230522-1718096400-1718100000@jccdfy.org
SUMMARY:CDFY Community Outreach Committee
DESCRIPTION:
URL:https://jccdfy.org/event/cdfy-community-outreach-committee-5/
LOCATION:Council For Drug Free Youth\, 512 Jefferson St\, Jefferson City\, MO 65101\, USA
CATEGORIES:CDFY Public Events
END:VEVENT
BEGIN:VEVENT
DTSTART;TZID=America/Chicago:20240613T103000
DTEND;TZID=America/Chicago:20240613T113000
DTSTAMP:20260423T034734
CREATED:20231202T030511Z
LAST-MODIFIED:20231202T030511Z
UID:17228931-1718274600-1718278200@jccdfy.org
SUMMARY:Student of the Month Reminder
DESCRIPTION:Location: Council for Drug Free Youth Office \nWe will provide food
URL:https://jccdfy.org/event/student-of-the-month-reminder-11/
LOCATION:306 Jefferson St\, Jefferson City\, MO\, United States
CATEGORIES:Student of the Month Events
END:VEVENT
BEGIN:VEVENT
DTSTART;TZID=America/Chicago:20240613T103000
DTEND;TZID=America/Chicago:20240613T113000
DTSTAMP:20260423T034734
CREATED:20231202T030511Z
LAST-MODIFIED:20231202T030511Z
UID:17228928-1718274600-1718278200@jccdfy.org
SUMMARY:Student of the Month Reminder
DESCRIPTION:Location: Council for Drug Free Youth Office \nWe will provide food
URL:https://jccdfy.org/event/student-of-the-month-reminder-8/
LOCATION:306 Jefferson St\, Jefferson City\, MO\, United States
CATEGORIES:Student of the Month Events
END:VEVENT
BEGIN:VEVENT
DTSTART;TZID=America/Chicago:20240613T140000
DTEND;TZID=America/Chicago:20240613T190000
DTSTAMP:20260423T034734
CREATED:20240506T223517Z
LAST-MODIFIED:20240613T222419Z
UID:17230329-1718287200-1718305200@jccdfy.org
SUMMARY:Ice Cream Factory Fundraiser
DESCRIPTION:
URL:https://jccdfy.org/event/ice-cream-factory-fundraiser/
LOCATION:Ice Cream Factory\, 701 Madison St\, Jefferson City\, MO\, United States
CATEGORIES:CDFY Public Events
END:VEVENT
BEGIN:VEVENT
DTSTART;VALUE=DATE:20240618
DTEND;VALUE=DATE:20240620
DTSTAMP:20260423T034734
CREATED:20240613T222418Z
LAST-MODIFIED:20240619T223904Z
UID:17230595-1718733600-1718819999@jccdfy.org
SUMMARY:Holiday - Office Closed (Juneteenth)
DESCRIPTION:
URL:https://jccdfy.org/event/holiday-office-closed-juneteenth/
LOCATION:MO
CATEGORIES:CDFY Public Events
END:VEVENT
BEGIN:VEVENT
DTSTART;TZID=America/Chicago:20240621T080000
DTEND;TZID=America/Chicago:20240621T090000
DTSTAMP:20260423T034734
CREATED:20240603T212101Z
LAST-MODIFIED:20240603T212101Z
UID:17230525-1718956800-1718960400@jccdfy.org
SUMMARY:CDFY Resource Development
DESCRIPTION:
URL:https://jccdfy.org/event/cdfy-resource-development-3/
LOCATION:Council For Drug Free Youth\, 512 Jefferson St\, Jefferson City\, MO 65101\, USA
CATEGORIES:CDFY Public Events
END:VEVENT
BEGIN:VEVENT
DTSTART;TZID=America/Chicago:20240628T080000
DTEND;TZID=America/Chicago:20240628T090000
DTSTAMP:20260423T034734
CREATED:20240603T212101Z
LAST-MODIFIED:20240627T230825Z
UID:17230524-1719561600-1719565200@jccdfy.org
SUMMARY:CDFY Resource Development
DESCRIPTION:
URL:https://jccdfy.org/event/cdfy-resource-development-2/
LOCATION:Council For Drug Free Youth\, 512 Jefferson St\, Jefferson City\, MO\, United States
CATEGORIES:CDFY Public Events
END:VEVENT
END:VCALENDAR