BEGIN:VCALENDAR
VERSION:2.0
PRODID:-//Council for Drug Free Youth - ECPv6.15.20//NONSGML v1.0//EN
CALSCALE:GREGORIAN
METHOD:PUBLISH
X-WR-CALNAME:Council for Drug Free Youth
X-ORIGINAL-URL:https://jccdfy.org
X-WR-CALDESC:Events for Council for Drug Free Youth
REFRESH-INTERVAL;VALUE=DURATION:PT1H
X-Robots-Tag:noindex
X-PUBLISHED-TTL:PT1H
BEGIN:VTIMEZONE
TZID:America/Chicago
BEGIN:DAYLIGHT
TZOFFSETFROM:-0600
TZOFFSETTO:-0500
TZNAME:CDT
DTSTART:20230312T080000
END:DAYLIGHT
BEGIN:STANDARD
TZOFFSETFROM:-0500
TZOFFSETTO:-0600
TZNAME:CST
DTSTART:20231105T070000
END:STANDARD
BEGIN:DAYLIGHT
TZOFFSETFROM:-0600
TZOFFSETTO:-0500
TZNAME:CDT
DTSTART:20240310T080000
END:DAYLIGHT
BEGIN:STANDARD
TZOFFSETFROM:-0500
TZOFFSETTO:-0600
TZNAME:CST
DTSTART:20241103T070000
END:STANDARD
BEGIN:DAYLIGHT
TZOFFSETFROM:-0600
TZOFFSETTO:-0500
TZNAME:CDT
DTSTART:20250309T080000
END:DAYLIGHT
BEGIN:STANDARD
TZOFFSETFROM:-0500
TZOFFSETTO:-0600
TZNAME:CST
DTSTART:20251102T070000
END:STANDARD
BEGIN:DAYLIGHT
TZOFFSETFROM:-0600
TZOFFSETTO:-0500
TZNAME:CDT
DTSTART:20260308T080000
END:DAYLIGHT
BEGIN:STANDARD
TZOFFSETFROM:-0500
TZOFFSETTO:-0600
TZNAME:CST
DTSTART:20261101T070000
END:STANDARD
BEGIN:DAYLIGHT
TZOFFSETFROM:-0600
TZOFFSETTO:-0500
TZNAME:CDT
DTSTART:20270314T080000
END:DAYLIGHT
BEGIN:STANDARD
TZOFFSETFROM:-0500
TZOFFSETTO:-0600
TZNAME:CST
DTSTART:20271107T070000
END:STANDARD
BEGIN:DAYLIGHT
TZOFFSETFROM:-0600
TZOFFSETTO:-0500
TZNAME:CDT
DTSTART:20280312T080000
END:DAYLIGHT
BEGIN:STANDARD
TZOFFSETFROM:-0500
TZOFFSETTO:-0600
TZNAME:CST
DTSTART:20281105T070000
END:STANDARD
END:VTIMEZONE
BEGIN:VEVENT
DTSTART;TZID=America/Chicago:20240920T160000
DTEND;TZID=America/Chicago:20240920T173000
DTSTAMP:20260423T024319
CREATED:20240729T212228Z
LAST-MODIFIED:20240920T213515Z
UID:17231433-1726848000-1726853400@jccdfy.org
SUMMARY:Central Bank Tailgates
DESCRIPTION:200 Bracelets
URL:https://jccdfy.org/event/central-bank-tailgates/
LOCATION:California R-1 School District\, 211 S Owen St\, California\, MO\, United States
CATEGORIES:CDFY Public Events
END:VEVENT
BEGIN:VEVENT
DTSTART;TZID=America/Chicago:20241004T160000
DTEND;TZID=America/Chicago:20241004T173000
DTSTAMP:20260423T024319
CREATED:20240729T212229Z
LAST-MODIFIED:20241004T230514Z
UID:17231435-1728057600-1728063000@jccdfy.org
SUMMARY:Central Bank Tailgates
DESCRIPTION:
URL:https://jccdfy.org/event/central-bank-tailgates-2/
LOCATION:Capital City High School\, Jefferson City\, MO\, United States
CATEGORIES:CDFY Public Events
END:VEVENT
BEGIN:VEVENT
DTSTART;TZID=America/Chicago:20241018T160000
DTEND;TZID=America/Chicago:20241018T173000
DTSTAMP:20260423T024319
CREATED:20240729T212229Z
LAST-MODIFIED:20241017T235011Z
UID:17231437-1729267200-1729272600@jccdfy.org
SUMMARY:Central Bank Tailgates
DESCRIPTION:
URL:https://jccdfy.org/event/central-bank-tailgates-3/
LOCATION:Jefferson City High School\, 609 Union St\, Jefferson City\, MO\, United States
CATEGORIES:CDFY Public Events
END:VEVENT
BEGIN:VEVENT
DTSTART;TZID=America/Chicago:20241025T160000
DTEND;TZID=America/Chicago:20241025T173000
DTSTAMP:20260423T024319
CREATED:20240729T212229Z
LAST-MODIFIED:20241025T210904Z
UID:17231439-1729872000-1729877400@jccdfy.org
SUMMARY:Central Bank Tailgate
DESCRIPTION:
URL:https://jccdfy.org/event/central-bank-tailgate-3/
LOCATION:Helias Catholic High School\, 1305 Swifts Hwy\, Jefferson City\, MO\, United States
CATEGORIES:CDFY Public Events
END:VEVENT
BEGIN:VEVENT
DTSTART;TZID=America/Chicago:20241026T090000
DTEND;TZID=America/Chicago:20241026T130000
DTSTAMP:20260423T024319
CREATED:20240911T235013Z
LAST-MODIFIED:20240911T235013Z
UID:17231801-1729933200-1729947600@jccdfy.org
SUMMARY:DEA's National Medication Take Back Day
DESCRIPTION:Sign-up genius: https://www.signupgenius.com/go/10C0F4DAFAD29A4FCC34-50410125-deanational
URL:https://jccdfy.org/event/deas-national-medication-take-back-day-2/
LOCATION:Jefferson City Police Department\, 401 Monroe St\, Jefferson City\, MO\, United States
CATEGORIES:CDFY Public Events
END:VEVENT
BEGIN:VEVENT
DTSTART;TZID=America/Chicago:20241026T090000
DTEND;TZID=America/Chicago:20241026T130000
DTSTAMP:20260423T024319
CREATED:20240911T235013Z
LAST-MODIFIED:20241025T210904Z
UID:17231800-1729933200-1729947600@jccdfy.org
SUMMARY:DEA's National Medication Take Back Day
DESCRIPTION:Sign-up genius: https://www.signupgenius.com/go/10C0F4DAFAD29A4FCC34-50410125-deanational
URL:https://jccdfy.org/event/deas-national-medication-take-back-day/
LOCATION:Jefferson City Police Department\, 401 Monroe St\, Jefferson City\, MO\, United States
CATEGORIES:CDFY Public Events
END:VEVENT
BEGIN:VEVENT
DTSTART;TZID=America/Chicago:20241218T180000
DTEND;TZID=America/Chicago:20241218T193000
DTSTAMP:20260423T024319
CREATED:20241214T223822Z
LAST-MODIFIED:20241218T223730Z
UID:17232418-1734544800-1734550200@jccdfy.org
SUMMARY:CDFY Christmas Party!
DESCRIPTION:
URL:https://jccdfy.org/event/cdfy-christmas-party/
LOCATION:MO
CATEGORIES:CDFY Public Events
END:VEVENT
BEGIN:VEVENT
DTSTART;TZID=America/Chicago:20250531T090000
DTEND;TZID=America/Chicago:20250531T130000
DTSTAMP:20260423T024319
CREATED:20240624T230703Z
LAST-MODIFIED:20250530T220937Z
UID:17231061-1748682000-1748696400@jccdfy.org
SUMMARY:CDFY at JC Parks Kidsfest
DESCRIPTION:
URL:https://jccdfy.org/event/cdfy-at-jc-parks-kidsfest/
LOCATION:MO
CATEGORIES:CDFY Public Events
END:VEVENT
BEGIN:VEVENT
DTSTART;VALUE=DATE:20250720
DTEND;VALUE=DATE:20250726
DTSTAMP:20260423T024319
CREATED:20240812T220537Z
LAST-MODIFIED:20250701T235121Z
UID:17231579-1753034400-1753466399@jccdfy.org
SUMMARY:Show-Me Players and UPLIFT Camps (SMP 8:30-12\, Up 1:30-5)
DESCRIPTION:
URL:https://jccdfy.org/event/show-me-players-and-uplift-camps/
LOCATION:MO
CATEGORIES:CDFY Public Events
END:VEVENT
BEGIN:VEVENT
DTSTART;VALUE=DATE:20250727
DTEND;VALUE=DATE:20250802
DTSTAMP:20260423T024319
CREATED:20240812T220537Z
LAST-MODIFIED:20250701T235121Z
UID:17231580-1753639200-1754071199@jccdfy.org
SUMMARY:Safety Kids Camp
DESCRIPTION:
URL:https://jccdfy.org/event/safety-kids-camp/
LOCATION:MO
CATEGORIES:CDFY Public Events
END:VEVENT
BEGIN:VEVENT
DTSTART;TZID=America/Chicago:20250804T160000
DTEND;TZID=America/Chicago:20250804T183000
DTSTAMP:20260423T024319
CREATED:20231202T025513Z
LAST-MODIFIED:20250514T213539Z
UID:17228859-1754323200-1754332200@jccdfy.org
SUMMARY:CDFY ICE CREAM SOCIAL
DESCRIPTION:CDFY performance groups perform for the community
URL:https://jccdfy.org/event/cdfy-ice-cream-social-2/
LOCATION:Capital Mall\, 3600 Country Club Dr\, Jefferson City\, MO\, United States
CATEGORIES:CDFY Public Events
END:VEVENT
BEGIN:VEVENT
DTSTART;VALUE=DATE:20251231
DTEND;VALUE=DATE:20260102
DTSTAMP:20260423T024319
CREATED:20240101T221931Z
LAST-MODIFIED:20251202T212220Z
UID:17229304-1767204000-1767290399@jccdfy.org
SUMMARY:Dan Thompson Birthday
DESCRIPTION:
URL:https://jccdfy.org/event/dan-thompson-birthday-2/
LOCATION:MO
CATEGORIES:CDFY Public Events
END:VEVENT
BEGIN:VEVENT
DTSTART;TZID=America/Chicago:20260803T160000
DTEND;TZID=America/Chicago:20260803T183000
DTSTAMP:20260423T024319
CREATED:20240803T213531Z
LAST-MODIFIED:20251202T212221Z
UID:17231532-1785772800-1785781800@jccdfy.org
SUMMARY:CDFY ICE CREAM SOCIAL
DESCRIPTION:CDFY performance groups perform for the community
URL:https://jccdfy.org/event/cdfy-ice-cream-social-3/
LOCATION:Capital Mall\, 3600 Country Club Dr\, Jefferson City\, MO\, United States
CATEGORIES:CDFY Public Events
END:VEVENT
BEGIN:VEVENT
DTSTART;VALUE=DATE:20261231
DTEND;VALUE=DATE:20270102
DTSTAMP:20260423T024319
CREATED:20250101T212129Z
LAST-MODIFIED:20251202T212221Z
UID:17232509-1798740000-1798826399@jccdfy.org
SUMMARY:Dan Thompson Birthday
DESCRIPTION:
URL:https://jccdfy.org/event/dan-thompson-birthday-3/
LOCATION:MO
CATEGORIES:CDFY Public Events
END:VEVENT
BEGIN:VEVENT
DTSTART;TZID=America/Chicago:20270802T160000
DTEND;TZID=America/Chicago:20270802T183000
DTSTAMP:20260423T024319
CREATED:20250802T222014Z
LAST-MODIFIED:20250802T222014Z
UID:17233618-1817222400-1817231400@jccdfy.org
SUMMARY:CDFY ICE CREAM SOCIAL
DESCRIPTION:CDFY performance groups perform for the community
URL:https://jccdfy.org/event/cdfy-ice-cream-social-5/
LOCATION:Capital Mall\, 3600 Country Club Dr\, Jefferson City\, MO\, United States
CATEGORIES:CDFY Public Events
END:VEVENT
BEGIN:VEVENT
DTSTART;TZID=America/Chicago:20270802T160000
DTEND;TZID=America/Chicago:20270802T183000
DTSTAMP:20260423T024319
CREATED:20250802T222014Z
LAST-MODIFIED:20251202T212221Z
UID:17233617-1817222400-1817231400@jccdfy.org
SUMMARY:CDFY ICE CREAM SOCIAL
DESCRIPTION:CDFY performance groups perform for the community
URL:https://jccdfy.org/event/cdfy-ice-cream-social-4/
LOCATION:Capital Mall\, 3600 Country Club Dr\, Jefferson City\, MO\, United States
CATEGORIES:CDFY Public Events
END:VEVENT
END:VCALENDAR