BEGIN:VCALENDAR
VERSION:2.0
PRODID:-//Council for Drug Free Youth - ECPv6.15.20//NONSGML v1.0//EN
CALSCALE:GREGORIAN
METHOD:PUBLISH
X-ORIGINAL-URL:https://jccdfy.org
X-WR-CALDESC:Events for Council for Drug Free Youth
REFRESH-INTERVAL;VALUE=DURATION:PT1H
X-Robots-Tag:noindex
X-PUBLISHED-TTL:PT1H
BEGIN:VTIMEZONE
TZID:America/Chicago
BEGIN:DAYLIGHT
TZOFFSETFROM:-0600
TZOFFSETTO:-0500
TZNAME:CDT
DTSTART:20230312T080000
END:DAYLIGHT
BEGIN:STANDARD
TZOFFSETFROM:-0500
TZOFFSETTO:-0600
TZNAME:CST
DTSTART:20231105T070000
END:STANDARD
BEGIN:DAYLIGHT
TZOFFSETFROM:-0600
TZOFFSETTO:-0500
TZNAME:CDT
DTSTART:20240310T080000
END:DAYLIGHT
BEGIN:STANDARD
TZOFFSETFROM:-0500
TZOFFSETTO:-0600
TZNAME:CST
DTSTART:20241103T070000
END:STANDARD
BEGIN:DAYLIGHT
TZOFFSETFROM:-0600
TZOFFSETTO:-0500
TZNAME:CDT
DTSTART:20250309T080000
END:DAYLIGHT
BEGIN:STANDARD
TZOFFSETFROM:-0500
TZOFFSETTO:-0600
TZNAME:CST
DTSTART:20251102T070000
END:STANDARD
END:VTIMEZONE
BEGIN:VEVENT
DTSTART;VALUE=DATE:20240707
DTEND;VALUE=DATE:20240713
DTSTAMP:20260425T141546
CREATED:20231208T210322Z
LAST-MODIFIED:20240712T235012Z
UID:17229025-1720375200-1720807199@jccdfy.org
SUMMARY:SMP/UPLIFT Camps
DESCRIPTION:
URL:https://jccdfy.org/event/smp-uplift-camps/
LOCATION:Muse\, 6901 Bates Rd\, Jefferson City\, MO\, United States
CATEGORIES:CDFY Public Events
END:VEVENT
BEGIN:VEVENT
DTSTART;TZID=America/Chicago:20240708T073000
DTEND;TZID=America/Chicago:20240708T110000
DTSTAMP:20260425T141546
CREATED:20240618T224003Z
LAST-MODIFIED:20240707T233514Z
UID:17230631-1720423800-1720436400@jccdfy.org
SUMMARY:Show-Me Player group Camp
DESCRIPTION:
URL:https://jccdfy.org/event/show-me-player-group-camp/
LOCATION:Muse\, 6901 Bates Rd\, Jefferson City\, MO\, United States
CATEGORIES:CDFY Public Events
END:VEVENT
BEGIN:VEVENT
DTSTART;TZID=America/Chicago:20240708T123000
DTEND;TZID=America/Chicago:20240708T160000
DTSTAMP:20260425T141546
CREATED:20240618T224003Z
LAST-MODIFIED:20240707T233514Z
UID:17230632-1720441800-1720454400@jccdfy.org
SUMMARY:UPLIFT group Camp
DESCRIPTION:
URL:https://jccdfy.org/event/uplift-group-camp/
LOCATION:Muse\, 6901 Bates Rd\, Jefferson City\, MO\, United States
CATEGORIES:CDFY Public Events
END:VEVENT
BEGIN:VEVENT
DTSTART;TZID=America/Chicago:20240708T150000
DTEND;TZID=America/Chicago:20240708T190000
DTSTAMP:20260425T141546
CREATED:20240613T222418Z
LAST-MODIFIED:20240708T233813Z
UID:17230598-1720450800-1720465200@jccdfy.org
SUMMARY:West Main Pizza Fundraiser
DESCRIPTION:Attention\, pizza lovers! 🍕 Do you want to enjoy a delicious meal and support a great cause at the same time?\nJoin us at West Main Pizza\, where 15% of all orders placed in person or online will be donated to the Council for Drug Free Youth!\nEvery slice counts when it comes to keeping our community safe and drug-free.  Enjoy some amazing food\, order in person or online\, and help us build a brighter\, healthier future.
URL:https://jccdfy.org/event/west-main-pizza-fundraiser/
LOCATION:West Main Pizza\, 1931 W Main St\, Jefferson City\, MO\, United States
CATEGORIES:CDFY Public Events
END:VEVENT
END:VCALENDAR