BEGIN:VCALENDAR
VERSION:2.0
PRODID:-//Council for Drug Free Youth - ECPv6.15.20//NONSGML v1.0//EN
CALSCALE:GREGORIAN
METHOD:PUBLISH
X-ORIGINAL-URL:https://jccdfy.org
X-WR-CALDESC:Events for Council for Drug Free Youth
REFRESH-INTERVAL;VALUE=DURATION:PT1H
X-Robots-Tag:noindex
X-PUBLISHED-TTL:PT1H
BEGIN:VTIMEZONE
TZID:America/Chicago
BEGIN:DAYLIGHT
TZOFFSETFROM:-0600
TZOFFSETTO:-0500
TZNAME:CDT
DTSTART:20230312T080000
END:DAYLIGHT
BEGIN:STANDARD
TZOFFSETFROM:-0500
TZOFFSETTO:-0600
TZNAME:CST
DTSTART:20231105T070000
END:STANDARD
BEGIN:DAYLIGHT
TZOFFSETFROM:-0600
TZOFFSETTO:-0500
TZNAME:CDT
DTSTART:20240310T080000
END:DAYLIGHT
BEGIN:STANDARD
TZOFFSETFROM:-0500
TZOFFSETTO:-0600
TZNAME:CST
DTSTART:20241103T070000
END:STANDARD
BEGIN:DAYLIGHT
TZOFFSETFROM:-0600
TZOFFSETTO:-0500
TZNAME:CDT
DTSTART:20250309T080000
END:DAYLIGHT
BEGIN:STANDARD
TZOFFSETFROM:-0500
TZOFFSETTO:-0600
TZNAME:CST
DTSTART:20251102T070000
END:STANDARD
END:VTIMEZONE
BEGIN:VEVENT
DTSTART;VALUE=DATE:20240714
DTEND;VALUE=DATE:20240720
DTSTAMP:20260425T053136
CREATED:20231208T210322Z
LAST-MODIFIED:20240719T210647Z
UID:17229027-1720980000-1721411999@jccdfy.org
SUMMARY:SK Camps
DESCRIPTION:
URL:https://jccdfy.org/event/sk-camps/
LOCATION:Muse\, 6901 Bates Rd\, Jefferson City\, MO\, United States
CATEGORIES:CDFY Public Events
END:VEVENT
BEGIN:VEVENT
DTSTART;TZID=America/Chicago:20240718T073000
DTEND;TZID=America/Chicago:20240718T110000
DTSTAMP:20260425T053136
CREATED:20240618T224006Z
LAST-MODIFIED:20240717T210602Z
UID:17230654-1721287800-1721300400@jccdfy.org
SUMMARY:Blue Group Safety Kids Camp
DESCRIPTION:
URL:https://jccdfy.org/event/blue-group-safety-kids-camp-4/
LOCATION:Muse\, 6901 Bates Rd\, Jefferson City\, MO\, United States
CATEGORIES:CDFY Public Events
END:VEVENT
BEGIN:VEVENT
DTSTART;TZID=America/Chicago:20240718T123000
DTEND;TZID=America/Chicago:20240718T160000
DTSTAMP:20260425T053136
CREATED:20240618T224006Z
LAST-MODIFIED:20240718T210715Z
UID:17230655-1721305800-1721318400@jccdfy.org
SUMMARY:Red Group Safety Kids Camp
DESCRIPTION:
URL:https://jccdfy.org/event/red-group-safety-kids-camp-4/
LOCATION:Muse\, 6901 Bates Rd\, Jefferson City\, MO\, United States
CATEGORIES:CDFY Public Events
END:VEVENT
END:VCALENDAR