BEGIN:VCALENDAR
VERSION:2.0
PRODID:-//Council for Drug Free Youth - ECPv6.15.20//NONSGML v1.0//EN
CALSCALE:GREGORIAN
METHOD:PUBLISH
X-ORIGINAL-URL:https://jccdfy.org
X-WR-CALDESC:Events for Council for Drug Free Youth
REFRESH-INTERVAL;VALUE=DURATION:PT1H
X-Robots-Tag:noindex
X-PUBLISHED-TTL:PT1H
BEGIN:VTIMEZONE
TZID:America/Chicago
BEGIN:DAYLIGHT
TZOFFSETFROM:-0600
TZOFFSETTO:-0500
TZNAME:CDT
DTSTART:20230312T080000
END:DAYLIGHT
BEGIN:STANDARD
TZOFFSETFROM:-0500
TZOFFSETTO:-0600
TZNAME:CST
DTSTART:20231105T070000
END:STANDARD
BEGIN:DAYLIGHT
TZOFFSETFROM:-0600
TZOFFSETTO:-0500
TZNAME:CDT
DTSTART:20240310T080000
END:DAYLIGHT
BEGIN:STANDARD
TZOFFSETFROM:-0500
TZOFFSETTO:-0600
TZNAME:CST
DTSTART:20241103T070000
END:STANDARD
BEGIN:DAYLIGHT
TZOFFSETFROM:-0600
TZOFFSETTO:-0500
TZNAME:CDT
DTSTART:20250309T080000
END:DAYLIGHT
BEGIN:STANDARD
TZOFFSETFROM:-0500
TZOFFSETTO:-0600
TZNAME:CST
DTSTART:20251102T070000
END:STANDARD
END:VTIMEZONE
BEGIN:VEVENT
DTSTART;VALUE=DATE:20240707
DTEND;VALUE=DATE:20240713
DTSTAMP:20260425T064451
CREATED:20231208T210322Z
LAST-MODIFIED:20240712T235012Z
UID:17229025-1720375200-1720807199@jccdfy.org
SUMMARY:SMP/UPLIFT Camps
DESCRIPTION:
URL:https://jccdfy.org/event/smp-uplift-camps/
LOCATION:Muse\, 6901 Bates Rd\, Jefferson City\, MO\, United States
CATEGORIES:CDFY Public Events
END:VEVENT
BEGIN:VEVENT
DTSTART;TZID=America/Chicago:20240711T073000
DTEND;TZID=America/Chicago:20240711T110000
DTSTAMP:20260425T064451
CREATED:20240618T224005Z
LAST-MODIFIED:20240710T235011Z
UID:17230639-1720683000-1720695600@jccdfy.org
SUMMARY:Show-Me Player group Camp
DESCRIPTION:
URL:https://jccdfy.org/event/show-me-player-group-camp-4/
LOCATION:Muse\, 6901 Bates Rd\, Jefferson City\, MO\, United States
CATEGORIES:CDFY Public Events
END:VEVENT
BEGIN:VEVENT
DTSTART;TZID=America/Chicago:20240711T103000
DTEND;TZID=America/Chicago:20240711T113000
DTSTAMP:20260425T064451
CREATED:20231202T030511Z
LAST-MODIFIED:20231202T030511Z
UID:17228933-1720693800-1720697400@jccdfy.org
SUMMARY:Student of the Month Reminder
DESCRIPTION:Location: Council for Drug Free Youth Office \nWe will provide food
URL:https://jccdfy.org/event/student-of-the-month-reminder-13/
LOCATION:306 Jefferson St\, Jefferson City\, MO\, United States
CATEGORIES:Student of the Month Events
END:VEVENT
BEGIN:VEVENT
DTSTART;TZID=America/Chicago:20240711T103000
DTEND;TZID=America/Chicago:20240711T113000
DTSTAMP:20260425T064451
CREATED:20231202T030511Z
LAST-MODIFIED:20231202T030511Z
UID:17228930-1720693800-1720697400@jccdfy.org
SUMMARY:Student of the Month Reminder
DESCRIPTION:Location: Council for Drug Free Youth Office \nWe will provide food
URL:https://jccdfy.org/event/student-of-the-month-reminder-10/
LOCATION:306 Jefferson St\, Jefferson City\, MO\, United States
CATEGORIES:Student of the Month Events
END:VEVENT
BEGIN:VEVENT
DTSTART;TZID=America/Chicago:20240711T123000
DTEND;TZID=America/Chicago:20240711T160000
DTSTAMP:20260425T064451
CREATED:20240618T224005Z
LAST-MODIFIED:20240710T235011Z
UID:17230641-1720701000-1720713600@jccdfy.org
SUMMARY:UPLIFT group Camp
DESCRIPTION:
URL:https://jccdfy.org/event/uplift-group-camp-4/
LOCATION:Muse\, 6901 Bates Rd\, Jefferson City\, MO\, United States
CATEGORIES:CDFY Public Events
END:VEVENT
END:VCALENDAR