BEGIN:VCALENDAR
VERSION:2.0
PRODID:-//Council for Drug Free Youth - ECPv6.15.20//NONSGML v1.0//EN
CALSCALE:GREGORIAN
METHOD:PUBLISH
X-WR-CALNAME:Council for Drug Free Youth
X-ORIGINAL-URL:https://jccdfy.org
X-WR-CALDESC:Events for Council for Drug Free Youth
REFRESH-INTERVAL;VALUE=DURATION:PT1H
X-Robots-Tag:noindex
X-PUBLISHED-TTL:PT1H
BEGIN:VTIMEZONE
TZID:America/Chicago
BEGIN:DAYLIGHT
TZOFFSETFROM:-0600
TZOFFSETTO:-0500
TZNAME:CDT
DTSTART:20230312T080000
END:DAYLIGHT
BEGIN:STANDARD
TZOFFSETFROM:-0500
TZOFFSETTO:-0600
TZNAME:CST
DTSTART:20231105T070000
END:STANDARD
BEGIN:DAYLIGHT
TZOFFSETFROM:-0600
TZOFFSETTO:-0500
TZNAME:CDT
DTSTART:20240310T080000
END:DAYLIGHT
BEGIN:STANDARD
TZOFFSETFROM:-0500
TZOFFSETTO:-0600
TZNAME:CST
DTSTART:20241103T070000
END:STANDARD
BEGIN:DAYLIGHT
TZOFFSETFROM:-0600
TZOFFSETTO:-0500
TZNAME:CDT
DTSTART:20250309T080000
END:DAYLIGHT
BEGIN:STANDARD
TZOFFSETFROM:-0500
TZOFFSETTO:-0600
TZNAME:CST
DTSTART:20251102T070000
END:STANDARD
END:VTIMEZONE
BEGIN:VEVENT
DTSTART;VALUE=DATE:20240707
DTEND;VALUE=DATE:20240713
DTSTAMP:20260425T070905
CREATED:20231208T210322Z
LAST-MODIFIED:20240712T235012Z
UID:17229025-1720375200-1720807199@jccdfy.org
SUMMARY:SMP/UPLIFT Camps
DESCRIPTION:
URL:https://jccdfy.org/event/smp-uplift-camps/
LOCATION:Muse\, 6901 Bates Rd\, Jefferson City\, MO\, United States
CATEGORIES:CDFY Public Events
END:VEVENT
BEGIN:VEVENT
DTSTART;TZID=America/Chicago:20240710T073000
DTEND;TZID=America/Chicago:20240710T110000
DTSTAMP:20260425T070905
CREATED:20240618T224004Z
LAST-MODIFIED:20240709T233755Z
UID:17230635-1720596600-1720609200@jccdfy.org
SUMMARY:Show-Me Player group Camp
DESCRIPTION:
URL:https://jccdfy.org/event/show-me-player-group-camp-3/
LOCATION:Muse\, 6901 Bates Rd\, Jefferson City\, MO\, United States
CATEGORIES:CDFY Public Events
END:VEVENT
BEGIN:VEVENT
DTSTART;TZID=America/Chicago:20240710T123000
DTEND;TZID=America/Chicago:20240710T160000
DTSTAMP:20260425T070905
CREATED:20240618T224004Z
LAST-MODIFIED:20240709T233755Z
UID:17230636-1720614600-1720627200@jccdfy.org
SUMMARY:UPLIFT group Camp
DESCRIPTION:
URL:https://jccdfy.org/event/uplift-group-camp-2/
LOCATION:Muse\, 6901 Bates Rd\, Jefferson City\, MO\, United States
CATEGORIES:CDFY Public Events
END:VEVENT
END:VCALENDAR