BEGIN:VCALENDAR
VERSION:2.0
PRODID:-//Council for Drug Free Youth - ECPv6.15.20//NONSGML v1.0//EN
CALSCALE:GREGORIAN
METHOD:PUBLISH
X-ORIGINAL-URL:https://jccdfy.org
X-WR-CALDESC:Events for Council for Drug Free Youth
REFRESH-INTERVAL;VALUE=DURATION:PT1H
X-Robots-Tag:noindex
X-PUBLISHED-TTL:PT1H
BEGIN:VTIMEZONE
TZID:America/Chicago
BEGIN:DAYLIGHT
TZOFFSETFROM:-0600
TZOFFSETTO:-0500
TZNAME:CDT
DTSTART:20230312T080000
END:DAYLIGHT
BEGIN:STANDARD
TZOFFSETFROM:-0500
TZOFFSETTO:-0600
TZNAME:CST
DTSTART:20231105T070000
END:STANDARD
BEGIN:DAYLIGHT
TZOFFSETFROM:-0600
TZOFFSETTO:-0500
TZNAME:CDT
DTSTART:20240310T080000
END:DAYLIGHT
BEGIN:STANDARD
TZOFFSETFROM:-0500
TZOFFSETTO:-0600
TZNAME:CST
DTSTART:20241103T070000
END:STANDARD
BEGIN:DAYLIGHT
TZOFFSETFROM:-0600
TZOFFSETTO:-0500
TZNAME:CDT
DTSTART:20250309T080000
END:DAYLIGHT
BEGIN:STANDARD
TZOFFSETFROM:-0500
TZOFFSETTO:-0600
TZNAME:CST
DTSTART:20251102T070000
END:STANDARD
END:VTIMEZONE
BEGIN:VEVENT
DTSTART;VALUE=DATE:20240508
DTEND;VALUE=DATE:20240510
DTSTAMP:20260425T065012
CREATED:20240311T222043Z
LAST-MODIFIED:20240509T225014Z
UID:17229874-1715191200-1715277599@jccdfy.org
SUMMARY:Signs of Suicide - JCAC
DESCRIPTION:
URL:https://jccdfy.org/event/signs-of-suicide-jcac/
LOCATION:MO
CATEGORIES:CDFY Public Events
END:VEVENT
BEGIN:VEVENT
DTSTART;TZID=America/Chicago:20240509T103000
DTEND;TZID=America/Chicago:20240509T113000
DTSTAMP:20260425T065012
CREATED:20231202T030511Z
LAST-MODIFIED:20231202T030511Z
UID:17228929-1715250600-1715254200@jccdfy.org
SUMMARY:Student of the Month Reminder
DESCRIPTION:Location: Council for Drug Free Youth Office \nWe will provide food
URL:https://jccdfy.org/event/student-of-the-month-reminder-9/
LOCATION:306 Jefferson St\, Jefferson City\, MO\, United States
CATEGORIES:Student of the Month Events
END:VEVENT
BEGIN:VEVENT
DTSTART;TZID=America/Chicago:20240509T103000
DTEND;TZID=America/Chicago:20240509T113000
DTSTAMP:20260425T065012
CREATED:20231202T030511Z
LAST-MODIFIED:20231202T030511Z
UID:17228925-1715250600-1715254200@jccdfy.org
SUMMARY:Student of the Month Reminder
DESCRIPTION:Location: Council for Drug Free Youth Office \nWe will provide food
URL:https://jccdfy.org/event/student-of-the-month-reminder-6/
LOCATION:306 Jefferson St\, Jefferson City\, MO\, United States
CATEGORIES:Student of the Month Events
END:VEVENT
BEGIN:VEVENT
DTSTART;TZID=America/Chicago:20240509T170000
DTEND;TZID=America/Chicago:20240509T190000
DTSTAMP:20260425T065012
CREATED:20240208T210426Z
LAST-MODIFIED:20240509T225014Z
UID:17229619-1715274000-1715281200@jccdfy.org
SUMMARY:CDFY Quarterly Coalition Meeting
DESCRIPTION:
URL:https://jccdfy.org/event/cdfy-quarterly-coalition-meeting/
LOCATION:The Studio at Dunklin\, 128 E Dunklin St\, Jefferson City\, MO 65101\, USA
CATEGORIES:CDFY Public Events
END:VEVENT
BEGIN:VEVENT
DTSTART;TZID=America/Chicago:20240509T170000
DTEND;TZID=America/Chicago:20240509T190000
DTSTAMP:20260425T065012
CREATED:20240208T210428Z
LAST-MODIFIED:20240208T210428Z
UID:17229621-1715274000-1715281200@jccdfy.org
SUMMARY:CDFY Quarterly Coalition Meeting
DESCRIPTION:
URL:https://jccdfy.org/event/cdfy-quarterly-coalition-meeting-2/
LOCATION:MO
CATEGORIES:CDFY Public Events
END:VEVENT
END:VCALENDAR