BEGIN:VCALENDAR
VERSION:2.0
PRODID:-//Council for Drug Free Youth - ECPv6.15.20//NONSGML v1.0//EN
CALSCALE:GREGORIAN
METHOD:PUBLISH
X-WR-CALNAME:Council for Drug Free Youth
X-ORIGINAL-URL:https://jccdfy.org
X-WR-CALDESC:Events for Council for Drug Free Youth
REFRESH-INTERVAL;VALUE=DURATION:PT1H
X-Robots-Tag:noindex
X-PUBLISHED-TTL:PT1H
BEGIN:VTIMEZONE
TZID:America/Chicago
BEGIN:DAYLIGHT
TZOFFSETFROM:-0600
TZOFFSETTO:-0500
TZNAME:CDT
DTSTART:20230312T080000
END:DAYLIGHT
BEGIN:STANDARD
TZOFFSETFROM:-0500
TZOFFSETTO:-0600
TZNAME:CST
DTSTART:20231105T070000
END:STANDARD
BEGIN:DAYLIGHT
TZOFFSETFROM:-0600
TZOFFSETTO:-0500
TZNAME:CDT
DTSTART:20240310T080000
END:DAYLIGHT
BEGIN:STANDARD
TZOFFSETFROM:-0500
TZOFFSETTO:-0600
TZNAME:CST
DTSTART:20241103T070000
END:STANDARD
BEGIN:DAYLIGHT
TZOFFSETFROM:-0600
TZOFFSETTO:-0500
TZNAME:CDT
DTSTART:20250309T080000
END:DAYLIGHT
BEGIN:STANDARD
TZOFFSETFROM:-0500
TZOFFSETTO:-0600
TZNAME:CST
DTSTART:20251102T070000
END:STANDARD
END:VTIMEZONE
BEGIN:VEVENT
DTSTART;VALUE=DATE:20240408
DTEND;VALUE=DATE:20240410
DTSTAMP:20260419T072735
CREATED:20240311T222041Z
LAST-MODIFIED:20240408T235217Z
UID:17229859-1712599200-1712685599@jccdfy.org
SUMMARY:Signs of Suicide - CCHS
DESCRIPTION:
URL:https://jccdfy.org/event/signs-of-suicide-cchs/
LOCATION:MO
CATEGORIES:CDFY Public Events
END:VEVENT
BEGIN:VEVENT
DTSTART;TZID=America/Chicago:20240409T110000
DTEND;TZID=America/Chicago:20240409T120000
DTSTAMP:20260419T072735
CREATED:20240311T222041Z
LAST-MODIFIED:20240408T235217Z
UID:17229862-1712660400-1712664000@jccdfy.org
SUMMARY:CDFY Community Outreach Meeting
DESCRIPTION:
URL:https://jccdfy.org/event/cdfy-community-outreach-meeting/
LOCATION:Council For Drug Free Youth\, 512 Jefferson St\, Jefferson City\, MO 65101\, USA
CATEGORIES:CDFY Public Events
END:VEVENT
BEGIN:VEVENT
DTSTART;VALUE=DATE:20240409
DTEND;VALUE=DATE:20240412
DTSTAMP:20260419T072735
CREATED:20240311T222041Z
LAST-MODIFIED:20240411T210614Z
UID:17229863-1712685600-1712858399@jccdfy.org
SUMMARY:Signs of Suicide - JCHS
DESCRIPTION:
URL:https://jccdfy.org/event/signs-of-suicide-jchs-2/
LOCATION:MO
CATEGORIES:CDFY Public Events
END:VEVENT
END:VCALENDAR