BEGIN:VCALENDAR
VERSION:2.0
PRODID:-//Council for Drug Free Youth - ECPv6.15.20//NONSGML v1.0//EN
CALSCALE:GREGORIAN
METHOD:PUBLISH
X-ORIGINAL-URL:https://jccdfy.org
X-WR-CALDESC:Events for Council for Drug Free Youth
REFRESH-INTERVAL;VALUE=DURATION:PT1H
X-Robots-Tag:noindex
X-PUBLISHED-TTL:PT1H
BEGIN:VTIMEZONE
TZID:America/Chicago
BEGIN:DAYLIGHT
TZOFFSETFROM:-0600
TZOFFSETTO:-0500
TZNAME:CDT
DTSTART:20230312T080000
END:DAYLIGHT
BEGIN:STANDARD
TZOFFSETFROM:-0500
TZOFFSETTO:-0600
TZNAME:CST
DTSTART:20231105T070000
END:STANDARD
BEGIN:DAYLIGHT
TZOFFSETFROM:-0600
TZOFFSETTO:-0500
TZNAME:CDT
DTSTART:20240310T080000
END:DAYLIGHT
BEGIN:STANDARD
TZOFFSETFROM:-0500
TZOFFSETTO:-0600
TZNAME:CST
DTSTART:20241103T070000
END:STANDARD
BEGIN:DAYLIGHT
TZOFFSETFROM:-0600
TZOFFSETTO:-0500
TZNAME:CDT
DTSTART:20250309T080000
END:DAYLIGHT
BEGIN:STANDARD
TZOFFSETFROM:-0500
TZOFFSETTO:-0600
TZNAME:CST
DTSTART:20251102T070000
END:STANDARD
END:VTIMEZONE
BEGIN:VEVENT
DTSTART;VALUE=DATE:20240206
DTEND;VALUE=DATE:20240207
DTSTAMP:20260422T035120
CREATED:20231202T030328Z
LAST-MODIFIED:20240206T035314Z
UID:17228907-1707177600-1707263999@jccdfy.org
SUMMARY:COPE-California
DESCRIPTION:
URL:https://jccdfy.org/event/cope-california-2/
LOCATION:MO
CATEGORIES:COPE Events
END:VEVENT
BEGIN:VEVENT
DTSTART;TZID=America/Chicago:20240206T080000
DTEND;TZID=America/Chicago:20240206T100000
DTSTAMP:20260422T035120
CREATED:20240126T235042Z
LAST-MODIFIED:20240205T234916Z
UID:17229540-1707206400-1707213600@jccdfy.org
SUMMARY:Signs of Suicide Program at Blair Oaks HS (2 sessions)
DESCRIPTION:
URL:https://jccdfy.org/event/signs-of-suicide-program-at-blair-oaks-hs-2-sessions/
LOCATION:MO
CATEGORIES:CDFY Public Events
END:VEVENT
BEGIN:VEVENT
DTSTART;TZID=America/Chicago:20240206T110000
DTEND;TZID=America/Chicago:20240206T150000
DTSTAMP:20260422T035120
CREATED:20240126T235042Z
LAST-MODIFIED:20240205T234916Z
UID:17229541-1707217200-1707231600@jccdfy.org
SUMMARY:Signs of Suicide Program a Blair Oaks MS (4 sessions)
DESCRIPTION:
URL:https://jccdfy.org/event/signs-of-suicide-program-a-blair-oaks-ms-4-sessions/
LOCATION:MO
CATEGORIES:CDFY Public Events
END:VEVENT
BEGIN:VEVENT
DTSTART;VALUE=DATE:20240206
DTEND;VALUE=DATE:20240208
DTSTAMP:20260422T035120
CREATED:20231202T030545Z
LAST-MODIFIED:20231202T030545Z
UID:17228952-1707242400-1707328799@jccdfy.org
SUMMARY:TEAM-California
DESCRIPTION:
URL:https://jccdfy.org/event/team-california/
LOCATION:MO
CATEGORIES:TEAM Challenge Events
END:VEVENT
END:VCALENDAR