BEGIN:VCALENDAR
VERSION:2.0
PRODID:-//Council for Drug Free Youth - ECPv6.15.20//NONSGML v1.0//EN
CALSCALE:GREGORIAN
METHOD:PUBLISH
X-WR-CALNAME:Council for Drug Free Youth
X-ORIGINAL-URL:https://jccdfy.org
X-WR-CALDESC:Events for Council for Drug Free Youth
REFRESH-INTERVAL;VALUE=DURATION:PT1H
X-Robots-Tag:noindex
X-PUBLISHED-TTL:PT1H
BEGIN:VTIMEZONE
TZID:America/Chicago
BEGIN:DAYLIGHT
TZOFFSETFROM:-0600
TZOFFSETTO:-0500
TZNAME:CDT
DTSTART:20230312T080000
END:DAYLIGHT
BEGIN:STANDARD
TZOFFSETFROM:-0500
TZOFFSETTO:-0600
TZNAME:CST
DTSTART:20231105T070000
END:STANDARD
BEGIN:DAYLIGHT
TZOFFSETFROM:-0600
TZOFFSETTO:-0500
TZNAME:CDT
DTSTART:20240310T080000
END:DAYLIGHT
BEGIN:STANDARD
TZOFFSETFROM:-0500
TZOFFSETTO:-0600
TZNAME:CST
DTSTART:20241103T070000
END:STANDARD
BEGIN:DAYLIGHT
TZOFFSETFROM:-0600
TZOFFSETTO:-0500
TZNAME:CDT
DTSTART:20250309T080000
END:DAYLIGHT
BEGIN:STANDARD
TZOFFSETFROM:-0500
TZOFFSETTO:-0600
TZNAME:CST
DTSTART:20251102T070000
END:STANDARD
END:VTIMEZONE
BEGIN:VEVENT
DTSTART;TZID=America/Chicago:20240125T083000
DTEND;TZID=America/Chicago:20240125T093000
DTSTAMP:20260424T053743
CREATED:20231219T210330Z
LAST-MODIFIED:20240124T234811Z
UID:17229197-1706171400-1706175000@jccdfy.org
SUMMARY:Show Me Players I.C. 8:30
DESCRIPTION:
URL:https://jccdfy.org/event/show-me-players-i-c-830/
LOCATION:MO
CATEGORIES:CDFY Public Events
END:VEVENT
BEGIN:VEVENT
DTSTART;TZID=America/Chicago:20240125T093000
DTEND;TZID=America/Chicago:20240125T103000
DTSTAMP:20260424T053743
CREATED:20231219T210330Z
LAST-MODIFIED:20240124T234810Z
UID:17229198-1706175000-1706178600@jccdfy.org
SUMMARY:Show Me Players Trinity 9:30
DESCRIPTION:
URL:https://jccdfy.org/event/show-me-players-trinity-930/
LOCATION:MO
CATEGORIES:CDFY Public Events
END:VEVENT
BEGIN:VEVENT
DTSTART;TZID=America/Chicago:20240125T103000
DTEND;TZID=America/Chicago:20240125T113000
DTSTAMP:20260424T053743
CREATED:20231219T210330Z
LAST-MODIFIED:20240124T234811Z
UID:17229199-1706178600-1706182200@jccdfy.org
SUMMARY:Show Me Players River Oaks 10:30
DESCRIPTION:
URL:https://jccdfy.org/event/show-me-players-river-oaks-1030/
LOCATION:MO
CATEGORIES:CDFY Public Events
END:VEVENT
BEGIN:VEVENT
DTSTART;TZID=America/Chicago:20240125T130000
DTEND;TZID=America/Chicago:20240125T140000
DTSTAMP:20260424T053743
CREATED:20231219T210330Z
LAST-MODIFIED:20240124T234811Z
UID:17229200-1706187600-1706191200@jccdfy.org
SUMMARY:Show Me Players Eugene 1:00
DESCRIPTION:
URL:https://jccdfy.org/event/show-me-players-eugene-100/
LOCATION:MO
CATEGORIES:CDFY Public Events
END:VEVENT
BEGIN:VEVENT
DTSTART;VALUE=DATE:20240125
DTEND;VALUE=DATE:20240127
DTSTAMP:20260424T053743
CREATED:20231220T211816Z
LAST-MODIFIED:20240126T235042Z
UID:17229240-1706205600-1706291999@jccdfy.org
SUMMARY:2024 CDFY Scholarship Deadline
DESCRIPTION:
URL:https://jccdfy.org/event/2024-cdfy-scholarship-deadline/
LOCATION:MO
CATEGORIES:CDFY Public Events
END:VEVENT
END:VCALENDAR