BEGIN:VCALENDAR
VERSION:2.0
PRODID:-//Council for Drug Free Youth - ECPv6.15.20//NONSGML v1.0//EN
CALSCALE:GREGORIAN
METHOD:PUBLISH
X-WR-CALNAME:Council for Drug Free Youth
X-ORIGINAL-URL:https://jccdfy.org
X-WR-CALDESC:Events for Council for Drug Free Youth
REFRESH-INTERVAL;VALUE=DURATION:PT1H
X-Robots-Tag:noindex
X-PUBLISHED-TTL:PT1H
BEGIN:VTIMEZONE
TZID:America/Chicago
BEGIN:DAYLIGHT
TZOFFSETFROM:-0600
TZOFFSETTO:-0500
TZNAME:CDT
DTSTART:20230312T080000
END:DAYLIGHT
BEGIN:STANDARD
TZOFFSETFROM:-0500
TZOFFSETTO:-0600
TZNAME:CST
DTSTART:20231105T070000
END:STANDARD
BEGIN:DAYLIGHT
TZOFFSETFROM:-0600
TZOFFSETTO:-0500
TZNAME:CDT
DTSTART:20240310T080000
END:DAYLIGHT
BEGIN:STANDARD
TZOFFSETFROM:-0500
TZOFFSETTO:-0600
TZNAME:CST
DTSTART:20241103T070000
END:STANDARD
BEGIN:DAYLIGHT
TZOFFSETFROM:-0600
TZOFFSETTO:-0500
TZNAME:CDT
DTSTART:20250309T080000
END:DAYLIGHT
BEGIN:STANDARD
TZOFFSETFROM:-0500
TZOFFSETTO:-0600
TZNAME:CST
DTSTART:20251102T070000
END:STANDARD
END:VTIMEZONE
BEGIN:VEVENT
DTSTART;TZID=America/Chicago:20240123T083000
DTEND;TZID=America/Chicago:20240123T093000
DTSTAMP:20260422T084741
CREATED:20231219T210329Z
LAST-MODIFIED:20240122T234941Z
UID:17229193-1705998600-1706002200@jccdfy.org
SUMMARY:Show Me Players  (Blue) IC LC 8:30
DESCRIPTION:
URL:https://jccdfy.org/event/show-me-players-blue-ic-lc-830/
LOCATION:MO
CATEGORIES:CDFY Public Events
END:VEVENT
BEGIN:VEVENT
DTSTART;TZID=America/Chicago:20240123T093000
DTEND;TZID=America/Chicago:20240123T103000
DTSTAMP:20260422T084741
CREATED:20231219T210329Z
LAST-MODIFIED:20240122T234941Z
UID:17229194-1706002200-1706005800@jccdfy.org
SUMMARY:Show Me Players (Blue) Holy Family/ Sacred Heart 9:30
DESCRIPTION:
URL:https://jccdfy.org/event/show-me-players-blue-holy-family-sacred-heart-930/
LOCATION:MO
CATEGORIES:CDFY Public Events
END:VEVENT
BEGIN:VEVENT
DTSTART;TZID=America/Chicago:20240123T103000
DTEND;TZID=America/Chicago:20240123T113000
DTSTAMP:20260422T084741
CREATED:20231219T210329Z
LAST-MODIFIED:20240122T234941Z
UID:17229195-1706005800-1706009400@jccdfy.org
SUMMARY:Show Me Players St. Joe Westphalia 10:30
DESCRIPTION:
URL:https://jccdfy.org/event/show-me-players-st-joe-westphalia-1030/
LOCATION:MO
CATEGORIES:CDFY Public Events
END:VEVENT
BEGIN:VEVENT
DTSTART;TZID=America/Chicago:20240123T130000
DTEND;TZID=America/Chicago:20240123T140000
DTSTAMP:20260422T084741
CREATED:20231219T210329Z
LAST-MODIFIED:20240122T234941Z
UID:17229196-1706014800-1706018400@jccdfy.org
SUMMARY:Show Me Players Fatima 1:00
DESCRIPTION:
URL:https://jccdfy.org/event/show-me-players-fatima-100/
LOCATION:MO
CATEGORIES:CDFY Public Events
END:VEVENT
END:VCALENDAR