BEGIN:VCALENDAR
VERSION:2.0
PRODID:-//Council for Drug Free Youth - ECPv6.15.20//NONSGML v1.0//EN
CALSCALE:GREGORIAN
METHOD:PUBLISH
X-WR-CALNAME:Council for Drug Free Youth
X-ORIGINAL-URL:https://jccdfy.org
X-WR-CALDESC:Events for Council for Drug Free Youth
REFRESH-INTERVAL;VALUE=DURATION:PT1H
X-Robots-Tag:noindex
X-PUBLISHED-TTL:PT1H
BEGIN:VTIMEZONE
TZID:America/Chicago
BEGIN:DAYLIGHT
TZOFFSETFROM:-0600
TZOFFSETTO:-0500
TZNAME:CDT
DTSTART:20230312T080000
END:DAYLIGHT
BEGIN:STANDARD
TZOFFSETFROM:-0500
TZOFFSETTO:-0600
TZNAME:CST
DTSTART:20231105T070000
END:STANDARD
BEGIN:DAYLIGHT
TZOFFSETFROM:-0600
TZOFFSETTO:-0500
TZNAME:CDT
DTSTART:20240310T080000
END:DAYLIGHT
BEGIN:STANDARD
TZOFFSETFROM:-0500
TZOFFSETTO:-0600
TZNAME:CST
DTSTART:20241103T070000
END:STANDARD
BEGIN:DAYLIGHT
TZOFFSETFROM:-0600
TZOFFSETTO:-0500
TZNAME:CDT
DTSTART:20250309T080000
END:DAYLIGHT
BEGIN:STANDARD
TZOFFSETFROM:-0500
TZOFFSETTO:-0600
TZNAME:CST
DTSTART:20251102T070000
END:STANDARD
END:VTIMEZONE
BEGIN:VEVENT
DTSTART;TZID=America/Chicago:20240104T083000
DTEND;TZID=America/Chicago:20240104T093000
DTSTAMP:20260422T071049
CREATED:20231218T210451Z
LAST-MODIFIED:20240103T221901Z
UID:17229141-1704357000-1704360600@jccdfy.org
SUMMARY:Show Me Players (red) Blair Oaks 8:30
DESCRIPTION:
URL:https://jccdfy.org/event/show-me-players-red-blair-oaks-830/
LOCATION:MO
CATEGORIES:CDFY Public Events
END:VEVENT
BEGIN:VEVENT
DTSTART;TZID=America/Chicago:20240104T093000
DTEND;TZID=America/Chicago:20240104T103000
DTSTAMP:20260422T071049
CREATED:20231218T210451Z
LAST-MODIFIED:20240103T221901Z
UID:17229142-1704360600-1704364200@jccdfy.org
SUMMARY:Show Me Players (red) St. Stan 9:30
DESCRIPTION:
URL:https://jccdfy.org/event/show-me-players-red-st-stan-930/
LOCATION:MO
CATEGORIES:CDFY Public Events
END:VEVENT
BEGIN:VEVENT
DTSTART;TZID=America/Chicago:20240104T130000
DTEND;TZID=America/Chicago:20240104T140000
DTSTAMP:20260422T071049
CREATED:20231218T210451Z
LAST-MODIFIED:20240103T221901Z
UID:17229143-1704373200-1704376800@jccdfy.org
SUMMARY:Show Me Players Immanuel Lutheran 1:00
DESCRIPTION:
URL:https://jccdfy.org/event/show-me-players-immanuel-lutheran-100/
LOCATION:MO
CATEGORIES:CDFY Public Events
END:VEVENT
END:VCALENDAR