BEGIN:VCALENDAR
VERSION:2.0
PRODID:-//Council for Drug Free Youth - ECPv6.15.20//NONSGML v1.0//EN
CALSCALE:GREGORIAN
METHOD:PUBLISH
X-WR-CALNAME:Council for Drug Free Youth
X-ORIGINAL-URL:https://jccdfy.org
X-WR-CALDESC:Events for Council for Drug Free Youth
REFRESH-INTERVAL;VALUE=DURATION:PT1H
X-Robots-Tag:noindex
X-PUBLISHED-TTL:PT1H
BEGIN:VTIMEZONE
TZID:America/Chicago
BEGIN:DAYLIGHT
TZOFFSETFROM:-0600
TZOFFSETTO:-0500
TZNAME:CDT
DTSTART:20220313T080000
END:DAYLIGHT
BEGIN:STANDARD
TZOFFSETFROM:-0500
TZOFFSETTO:-0600
TZNAME:CST
DTSTART:20221106T070000
END:STANDARD
BEGIN:DAYLIGHT
TZOFFSETFROM:-0600
TZOFFSETTO:-0500
TZNAME:CDT
DTSTART:20230312T080000
END:DAYLIGHT
BEGIN:STANDARD
TZOFFSETFROM:-0500
TZOFFSETTO:-0600
TZNAME:CST
DTSTART:20231105T070000
END:STANDARD
BEGIN:DAYLIGHT
TZOFFSETFROM:-0600
TZOFFSETTO:-0500
TZNAME:CDT
DTSTART:20240310T080000
END:DAYLIGHT
BEGIN:STANDARD
TZOFFSETFROM:-0500
TZOFFSETTO:-0600
TZNAME:CST
DTSTART:20241103T070000
END:STANDARD
END:VTIMEZONE
BEGIN:VEVENT
DTSTART;VALUE=DATE:20231204
DTEND;VALUE=DATE:20231205
DTSTAMP:20260425T111047
CREATED:20231202T030241Z
LAST-MODIFIED:20231204T154733Z
UID:17228895-1701648000-1701734399@jccdfy.org
SUMMARY:Baseline-Capital City HS
DESCRIPTION:
URL:https://jccdfy.org/event/baseline-capital-city-hs/
LOCATION:MO
CATEGORIES:Baseline Events
END:VEVENT
BEGIN:VEVENT
DTSTART;TZID=America/Chicago:20231204T090000
DTEND;TZID=America/Chicago:20231204T100000
DTSTAMP:20260425T111047
CREATED:20231202T025507Z
LAST-MODIFIED:20231202T025932Z
UID:17228823-1701680400-1701684000@jccdfy.org
SUMMARY:CDFY Stratgic Planning Committee
DESCRIPTION:
URL:https://jccdfy.org/event/cdfy-stratgic-planning-committee/
LOCATION:Council For Drug Free Youth\, 512 Jefferson St\, Jefferson City\, MO\, United States
CATEGORIES:CDFY Public Events
END:VEVENT
END:VCALENDAR